BEGIN:VCALENDAR
VERSION:2.0
PRODID:-//First Church of the Living God - ECPv6.15.20//NONSGML v1.0//EN
CALSCALE:GREGORIAN
METHOD:PUBLISH
X-ORIGINAL-URL:https://firstchurchclg.org
X-WR-CALDESC:Events for First Church of the Living God
REFRESH-INTERVAL;VALUE=DURATION:PT1H
X-Robots-Tag:noindex
X-PUBLISHED-TTL:PT1H
BEGIN:VTIMEZONE
TZID:America/Halifax
BEGIN:DAYLIGHT
TZOFFSETFROM:-0400
TZOFFSETTO:-0300
TZNAME:ADT
DTSTART:20230312T060000
END:DAYLIGHT
BEGIN:STANDARD
TZOFFSETFROM:-0300
TZOFFSETTO:-0400
TZNAME:AST
DTSTART:20231105T050000
END:STANDARD
BEGIN:DAYLIGHT
TZOFFSETFROM:-0400
TZOFFSETTO:-0300
TZNAME:ADT
DTSTART:20240310T060000
END:DAYLIGHT
BEGIN:STANDARD
TZOFFSETFROM:-0300
TZOFFSETTO:-0400
TZNAME:AST
DTSTART:20241103T050000
END:STANDARD
BEGIN:DAYLIGHT
TZOFFSETFROM:-0400
TZOFFSETTO:-0300
TZNAME:ADT
DTSTART:20250309T060000
END:DAYLIGHT
BEGIN:STANDARD
TZOFFSETFROM:-0300
TZOFFSETTO:-0400
TZNAME:AST
DTSTART:20251102T050000
END:STANDARD
BEGIN:DAYLIGHT
TZOFFSETFROM:-0400
TZOFFSETTO:-0300
TZNAME:ADT
DTSTART:20260308T060000
END:DAYLIGHT
BEGIN:STANDARD
TZOFFSETFROM:-0300
TZOFFSETTO:-0400
TZNAME:AST
DTSTART:20261101T050000
END:STANDARD
BEGIN:DAYLIGHT
TZOFFSETFROM:-0400
TZOFFSETTO:-0300
TZNAME:ADT
DTSTART:20270314T060000
END:DAYLIGHT
BEGIN:STANDARD
TZOFFSETFROM:-0300
TZOFFSETTO:-0400
TZNAME:AST
DTSTART:20271107T050000
END:STANDARD
END:VTIMEZONE
BEGIN:VEVENT
DTSTART;VALUE=DATE:20240522
DTEND;VALUE=DATE:20240525
DTSTAMP:20260422T193500
CREATED:20240405T002152Z
LAST-MODIFIED:20260328T015242Z
UID:1004-1716336000-1716595199@firstchurchclg.org
SUMMARY:2024 Kingdom Release Conference
DESCRIPTION:REGISTER NOW\n\n                \n                        \n                             \n                        \n                        Name*\n                            \n                            \n                                                    \n                                                    First\n                                                \n                            \n                            \n                                                    \n                                                    Last\n                                                \n                            \n                        Email*\n                            \n                        Phone*Church Organization*Include Friday Lunch*\n								\n								Yes\n							\n								\n								No\n							Number of LunchesPlease enter a number greater than or equal to 1.Will You Have Additional Registrants?*\n			\n				\n				No\n			\n			\n				\n				Yes\n			Early Registration Quantity*\n					\n					\n						Price:\n						$40.00\n					\n					\n					 Quantity \n				Early Registration ends Sunday\, May 19thAdditional Registrant(s)Please enter the name or names of the additional people you are registeringTotal\n							$0.00\n							\n						Credit Card\n					\n						Cardholder Name\n					\n					\n						Card Details\n					\n				\n          \n            \n            \n            \n            \n            \n            \n            \n            \n            \n            \n            \n            \n            \n        \n                        Δ
URL:https://firstchurchclg.org/event/2024-kingdom-release-conference/
LOCATION:First Church of the Living God\, 70 Whitney Street\, Hartford\, CT\, 06105\, United States
ATTACH;FMTTYPE=image/jpeg:https://firstchurchclg.org/wp-content/uploads/2024/04/KR24.jpg
END:VEVENT
BEGIN:VEVENT
DTSTART;VALUE=DATE:20260520
DTEND;VALUE=DATE:20260523
DTSTAMP:20260422T193500
CREATED:20260317T154007Z
LAST-MODIFIED:20260422T201706Z
UID:1015-1779235200-1779494399@firstchurchclg.org
SUMMARY:SAVE THE DATE: Kingdom Release Conference 2026
DESCRIPTION:Are You Ready for a Divine Shift?\nSomething happens when we change our view. This year\, we aren’t just looking at what’s possible—we are stepping into the “Superabundant Perspective”. During the conference you will be empowered to see opportunity where others see lack\, and promises where others see problems. Attendees can expect: \n\nVisionary Teaching: Shifting from a “survival” mindset to a “Kingdom overflow” reality.\nStrategic Growth: Specialized Friday sessions to equip you for impact in your family\, business\, and ministry.\nDivine Alignment: A dedicated season to hear what the Spirit is saying for the second half of 2026.\n\nJoin us for a powerful encounter where we move beyond the natural and align with the infinite vision of the Kingdom in the supernatural. Grounded in Ephesians 3:20\, we are expecting God to do exceedingly\, abundantly above all we could ask or think! \n\nNightly Worship: Encounter & Impact\nTime: 7:00 PM \nExperience powerful corporate worship and life-changing messages from dynamic speakers. If you are seeking renewal and a fresh word\, these nights are designed specifically for you. \n\nFriday Interactive Workshops: Strategy & Activation\nDate: Friday\, May 22\, 2026 | Time: 9:30 AM – 3:00 PM \nThis is more than a lecture. It is an intensive day of equipping you with Kingdom strategies to manifest superabundance in your business\, career\, and spiritual life. \nWorkshop Facilitators \n\nBishop Stephen Hodge – Joy in Trials: Reframing Difficulty Through Faith\nDr. Annette Wright – Kingdom Without Borders\nDr. Edwina Cogdell –  Speaking Superabundance The Power of Words & Faith\nElder Jesse J. White III & Minister Jonathan Wilkins – Plenary Session: Unlocking Overflow Through Stewardship\n\n\nRegistration Details\nDon’t just hear about the shift—be part of it. \n\n\nConference Registration: $60.00 per person \n\n\nBonus: Lunch is included for all registered attendees. \n\n\nCLICK HERE TO REGISTER NOW \nWe’ll see you there.
URL:https://firstchurchclg.org/event/save-the-date-kingdom-release-conference-2026/
LOCATION:First Church of the Living God\, 70 Whitney Street\, Hartford\, CT\, 06105\, United States
CATEGORIES:Church Conferences,Community Event
ATTACH;FMTTYPE=image/jpeg:https://firstchurchclg.org/wp-content/uploads/2026/03/facebook_1776374375032_7450654146697446586.jpg
END:VEVENT
END:VCALENDAR