BEGIN:VCALENDAR
VERSION:2.0
PRODID:-//First Church of the Living God - ECPv6.15.20//NONSGML v1.0//EN
CALSCALE:GREGORIAN
METHOD:PUBLISH
X-ORIGINAL-URL:https://firstchurchclg.org
X-WR-CALDESC:Events for First Church of the Living God
REFRESH-INTERVAL;VALUE=DURATION:PT1H
X-Robots-Tag:noindex
X-PUBLISHED-TTL:PT1H
BEGIN:VTIMEZONE
TZID:America/Halifax
BEGIN:DAYLIGHT
TZOFFSETFROM:-0400
TZOFFSETTO:-0300
TZNAME:ADT
DTSTART:20200308T060000
END:DAYLIGHT
BEGIN:STANDARD
TZOFFSETFROM:-0300
TZOFFSETTO:-0400
TZNAME:AST
DTSTART:20201101T050000
END:STANDARD
BEGIN:DAYLIGHT
TZOFFSETFROM:-0400
TZOFFSETTO:-0300
TZNAME:ADT
DTSTART:20210314T060000
END:DAYLIGHT
BEGIN:STANDARD
TZOFFSETFROM:-0300
TZOFFSETTO:-0400
TZNAME:AST
DTSTART:20211107T050000
END:STANDARD
BEGIN:DAYLIGHT
TZOFFSETFROM:-0400
TZOFFSETTO:-0300
TZNAME:ADT
DTSTART:20220313T060000
END:DAYLIGHT
BEGIN:STANDARD
TZOFFSETFROM:-0300
TZOFFSETTO:-0400
TZNAME:AST
DTSTART:20221106T050000
END:STANDARD
END:VTIMEZONE
BEGIN:VEVENT
DTSTART;VALUE=DATE:20210521
DTEND;VALUE=DATE:20210524
DTSTAMP:20260424T124216
CREATED:20210315T172738Z
LAST-MODIFIED:20210520T201901Z
UID:580-1621555200-1621814399@firstchurchclg.org
SUMMARY:The 2021 Virtual Kingdom Release Conference
DESCRIPTION:The Kingdom Release Conference is a spring conference sponsored by our local church and affiliates for the purpose of encouraging the people of God in the areas of evangelism\, community wellness\, and becoming more skillful in the business of kingdom building through faith and action. \n \n\n\n\n\n\n\n\n\nInstructions for the Virtual Conference \n\nSet up your free Hopin Account here \nRegister for the conference below.\nAttend the conference on our website.\nAttend the seminars via your Hopin Account.\n\n\n\n\n\n\n\n\n\n\n\n                \n                        Name*\n                            \n                            \n                                                    \n                                                    First\n                                                \n                            \n                            \n                                                    \n                                                    Last\n                                                \n                            \n                        Email*\n                            \n                        PhoneDonation\n					\n				(Enter any amount here)Total\n							$0.00\n							\n						Questions / CommentsCredit Card\n					\n						Cardholder Name\n					\n					\n						Card Details\n					\n				\n          \n            \n            \n            \n            \n            \n            \n            \n            \n            \n            \n            \n            \n            \n        \n                        Δ \n                        \n\n\n 
URL:https://firstchurchclg.org/event/the-2021-virtual-kingdom-release-conference/
LOCATION:Virtual Event
CATEGORIES:Community Event
ATTACH;FMTTYPE=image/jpeg:https://firstchurchclg.org/wp-content/uploads/2021/03/Flyer-update-scaled.jpg
END:VEVENT
END:VCALENDAR